BEGIN:VCALENDAR
VERSION:2.0
PRODID:-//jEvents 2.0 for Joomla//EN
CALSCALE:GREGORIAN
METHOD:PUBLISH
BEGIN:VTIMEZONE
TZID:Europe/Berlin
END:VTIMEZONE
BEGIN:VEVENT
UID:8d97e5df51424c77c00c9e8e731c50cb
CATEGORIES:Wettkampfsport, Männer, Frauen
CREATED:20260413T093825
SUMMARY:Südwestdeutsche Einzelmeisterschaften der Männer/ Frauen 2026
LOCATION:Elz
DESCRIPTION;ENCODING=QUOTED-PRINTABLE:<p><strong>Südwestdeutsche Einzelmeisterschaften der Männer/ Frauen 2026</s
 trong></p><p><a href="images/2026/Ausschreibungen/Ausschreibung_SWDEM_FM_23
 .05.26_Elz.pdf" target="_blank">Ausschreibung</a></p><p><strong>Meldeschlus
 s: Montag den 11.05.2026 Nachmeldungen sind ausgeschlossen!</strong></p><p>
 Veranstalter: Deutscher Judo-Bund e.V.,</p><p>Ansprechpartnerin: Gruppenkoo
 rdinatorin: Karolin Schmitz,<br /><span id="cloaka5cec91f9e10a457611d0a966d
 2fc384">Diese E-Mail-Adresse ist vor Spambots geschützt! Zur Anzeige muss J
 avaScript eingeschaltet sein!</span><script type='text/javascript'>
				doc
 ument.getElementById('cloaka5cec91f9e10a457611d0a966d2fc384').innerHTML = '
 ';
				var prefix = '&#109;a' + 'i&#108;' + '&#116;o';
				var path = 'hr' 
 + 'ef' + '=';
				var addya5cec91f9e10a457611d0a966d2fc384 = 'KSchm&#105;tz
 ' + '&#64;';
				addya5cec91f9e10a457611d0a966d2fc384 = addya5cec91f9e10a45
 7611d0a966d2fc384 + 'j&#117;d&#111;b&#117;nd' + '&#46;' + 'd&#101;';
				va
 r addy_texta5cec91f9e10a457611d0a966d2fc384 = 'KSchm&#105;tz' + '&#64;' + '
 j&#117;d&#111;b&#117;nd' + '&#46;' + 'd&#101;';document.getElementById('clo
 aka5cec91f9e10a457611d0a966d2fc384').innerHTML += '<a ' + path + '\'' + pre
 fix + ':' + addya5cec91f9e10a457611d0a966d2fc384 + '\'>'+addy_texta5cec91f9
 e10a457611d0a966d2fc384+'<\/a>';
		</script>,<br /><br />Ausrichter:<br />J
 udo-Club Elz 1970 e.V., Springstraße 14, 65604 Elz<br /><br />Ort: Turnhall
 e der Erlenbachschule Erlenbachhalle, 65604 Elz, Hadamarer Str. 13<br /><br
  />Samstag 23.05.2026<br />Waage Männer: 09:00 – 09:30 Uhr<br />Waage Fraue
 n: 09:30 – 10:00 Uhr</p><p>anschließend Wettkampfbeginn ca. 10:30 Uhr</p><p
 >Teilnehmer: Judoka der Jahrgänge 2009 und älter der Gruppe Südwest (JV Rhe
 inland, Pfalz,<br />Saarland und Hessen) Es erfolgt keine vorherige Qualifi
 kation über<br />Landesmeisterschaften.<br /><br /><br /></p>
CONTACT:Karolin Schmitz/Stefan Schneider
DTSTAMP:20260424T102029Z
DTSTART;TZID=Europe/Berlin;VALUE=DATE:20260523
DTEND;TZID=Europe/Berlin;VALUE=DATE:20260524
SEQUENCE:0
TRANSP:OPAQUE
END:VEVENT
END:VCALENDAR