BEGIN:VCALENDAR
VERSION:2.0
PRODID:-//jEvents 2.0 for Joomla//EN
CALSCALE:GREGORIAN
METHOD:PUBLISH
BEGIN:VTIMEZONE
TZID:Europe/Berlin
END:VTIMEZONE
BEGIN:VEVENT
UID:ace4fd4b4f493317a397ad8a8bb933a6
CATEGORIES:Wettkampfsport
CREATED:20251230T133941
SUMMARY:Oberliga 2. Kampftag
LOCATION:Hessen
DESCRIPTION;ENCODING=QUOTED-PRINTABLE:\n\nOberliga 2. Kampftag\n\n\nZur Liga-Seite\n\n\n&nbsp;\n\n\nAusrichtende 
 Vereine:\n\n\nTG Schwalbach\n\n\nJahnturnhalle&nbsp;\n\n\nJahnstr. 6&nbsp;\
 n\n\n65824 Schwalbach\n\n\nKGBürstadt/Rimbach\n\n\nOrt noch nicht bekannt\n
 \n\nTSG Nordwest Frankfurt\n\n\nWeiskirchener Weg 12\n\n\n60439 Frankfurt a
 m Main\n
CONTACT:Ralf Bacher
DTSTAMP:20260423T115243Z
DTSTART;TZID=Europe/Berlin;VALUE=DATE:20260419
DTEND;TZID=Europe/Berlin;VALUE=DATE:20260420
SEQUENCE:0
TRANSP:OPAQUE
END:VEVENT
END:VCALENDAR