BEGIN:VCALENDAR
VERSION:2.0
PRODID:-//jEvents 2.0 for Joomla//EN
CALSCALE:GREGORIAN
METHOD:PUBLISH
BEGIN:VTIMEZONE
TZID:Europe/Berlin
END:VTIMEZONE
BEGIN:VEVENT
UID:0cb79b8c0c348252a78ed6e6c53cb8e7
CATEGORIES:Breitensport, Prüfungswesen, Kata
CREATED:20250702T120513
SUMMARY:Lehrgang: Katame-no kata (kostenlos)
LOCATION:Dortelweil (Bab Vilbel)
DESCRIPTION;ENCODING=QUOTED-PRINTABLE:&nbsp;&nbsp;
DTSTAMP:20260421T173452Z
DTSTART;TZID=Europe/Berlin;VALUE=DATE:20250712
DTEND;TZID=Europe/Berlin;VALUE=DATE:20250713
SEQUENCE:0
TRANSP:OPAQUE
END:VEVENT
END:VCALENDAR