BEGIN:VCALENDAR
VERSION:2.0
PRODID:-//jEvents 2.0 for Joomla//EN
CALSCALE:GREGORIAN
METHOD:PUBLISH
BEGIN:VTIMEZONE
TZID:Europe/Berlin
END:VTIMEZONE
BEGIN:VEVENT
UID:34a54693e80592666baeb4fa94ecbc08
CATEGORIES:MU11, FU11
CREATED:20250516T163550
SUMMARY:HEM U11
LOCATION:BudoArena\, Ascher Str. 62\, 63477 Maintal 
DESCRIPTION;ENCODING=QUOTED-PRINTABLE:\n\nHEM U11\n
CONTACT:HJV Jugendleitung
DTSTAMP:20260421T180103Z
DTSTART;TZID=Europe/Berlin;VALUE=DATE:20250628
DTEND;TZID=Europe/Berlin;VALUE=DATE:20250629
SEQUENCE:0
TRANSP:OPAQUE
END:VEVENT
END:VCALENDAR