BEGIN:VCALENDAR
VERSION:2.0
PRODID:-//jEvents 2.0 for Joomla//EN
CALSCALE:GREGORIAN
METHOD:PUBLISH
BEGIN:VTIMEZONE
TZID:Europe/Berlin
END:VTIMEZONE
BEGIN:VEVENT
UID:26e3b297d263db78751100d6c17c089e
CATEGORIES:MU16, FU16
CREATED:20250415T152511
SUMMARY:Randori-Lehrgang U16
LOCATION:Wiesbaden\, Konrad-Adenauer Ring 55
DESCRIPTION;ENCODING=QUOTED-PRINTABLE:\n\nTE1: 10:00-12:00\n\n\nPause 12:00-12:30\n\n\nTE2: 12:30-14:00\n\n\n&nbs
 p;\n\n\nJahrgänge 2010, 2011, 2012\n
CONTACT:Jugendleitung
DTSTAMP:20260421T181825Z
DTSTART;TZID=Europe/Berlin;VALUE=DATE:20250426
DTEND;TZID=Europe/Berlin;VALUE=DATE:20250427
SEQUENCE:0
TRANSP:OPAQUE
END:VEVENT
END:VCALENDAR