BEGIN:VCALENDAR
VERSION:2.0
PRODID:-//jEvents 2.0 for Joomla//EN
CALSCALE:GREGORIAN
METHOD:PUBLISH
BEGIN:VTIMEZONE
TZID:Europe/Berlin
END:VTIMEZONE
BEGIN:VEVENT
UID:b78cb3052170ce11c67e160f033b5837
CATEGORIES:Kata
CREATED:20250315T131518
SUMMARY:DJB Kata Event
LOCATION:Bundesleistungszentrum Köln\, Guts-Muths-Weg 1 509
DESCRIPTION;ENCODING=QUOTED-PRINTABLE:<p>DJB Kata Event</p><p><a href="https://event.dokume.net/#/32345/KataEvent
 25" target="_blank" rel="noreferrer noopener"></a><a href="https://event.do
 kume.net/#/32345/KataEvent25">https://event.dokume.net/#/32345/KataEvent25<
 /a></p>
CONTACT:Sebastian Frey , DJB Kata Referent
DTSTAMP:20260421T180253Z
DTSTART;TZID=Europe/Berlin;VALUE=DATE:20250425
DTEND;TZID=Europe/Berlin;VALUE=DATE:20250428
SEQUENCE:0
TRANSP:OPAQUE
END:VEVENT
END:VCALENDAR