BEGIN:VCALENDAR
VERSION:2.0
PRODID:-//jEvents 2.0 for Joomla//EN
CALSCALE:GREGORIAN
METHOD:PUBLISH
BEGIN:VTIMEZONE
TZID:Europe/Berlin
END:VTIMEZONE
BEGIN:VEVENT
UID:0bd7e0bbc1504bbae4ff6e08e52b020a
CATEGORIES:Kampfrichterwesen
CREATED:20250212T154937
SUMMARY:Kampfrichterneuausbildung
LOCATION:Kleine Gymnastikhalle der Friedrich-Ebert-Schule Ringstraße 51-61\, 64319 P
 fungstadt
DESCRIPTION;ENCODING=QUOTED-PRINTABLE:<p>Zeit: <br />Beginn: 9:00 Uhr<br />Ende: ca. 17:00 Uhr</p><p>&nbsp;</p>
CONTACT:Stefan Himmler
DTSTAMP:20260423T150115Z
DTSTART;TZID=Europe/Berlin;VALUE=DATE:20250301
DTEND;TZID=Europe/Berlin;VALUE=DATE:20250303
SEQUENCE:0
TRANSP:OPAQUE
END:VEVENT
END:VCALENDAR