BEGIN:VCALENDAR
VERSION:2.0
PRODID:-//jEvents 2.0 for Joomla//EN
CALSCALE:GREGORIAN
METHOD:PUBLISH
BEGIN:VTIMEZONE
TZID:Europe/Berlin
END:VTIMEZONE
BEGIN:VEVENT
UID:5d654bba8a3debe521a0b17b14e87694
CATEGORIES:Prüfungswesen
CREATED:20250107T145422
SUMMARY:Dan Prüfung
LOCATION:Marburg
DESCRIPTION;ENCODING=QUOTED-PRINTABLE:&nbsp;
CONTACT:Michaelo Walter
DTSTAMP:20260421T163714Z
DTSTART;TZID=Europe/Berlin;VALUE=DATE:20250816
DTEND;TZID=Europe/Berlin;VALUE=DATE:20250817
SEQUENCE:0
TRANSP:OPAQUE
END:VEVENT
END:VCALENDAR