BEGIN:VCALENDAR
VERSION:2.0
PRODID:-//jEvents 2.0 for Joomla//EN
CALSCALE:GREGORIAN
METHOD:PUBLISH
BEGIN:VTIMEZONE
TZID:Europe/Berlin
END:VTIMEZONE
BEGIN:VEVENT
UID:baa454e30a69e9fb0ea8b3d487b0380b
CATEGORIES:Prüfungswesen
CREATED:20250107T145347
SUMMARY:Dan-Kompaktlehrgang 2025
LOCATION:Marburg
DESCRIPTION;ENCODING=QUOTED-PRINTABLE:<div class="viovendi-widget viovendi-booking-widget" data-viovendi-locale="
 de-de" data-viovendi-organizer="5182" data-viovendi-widget-config-name="boo
 king-5182-78794" data-viovendi-event="181760">&nbsp;</div><script src="http
 s://doo.net/viovendi-embed.js" type="text/javascript" data-viovendi-version
 ="1"></script>
CONTACT:Michaelo Walter
DTSTAMP:20260425T121609Z
DTSTART;TZID=Europe/Berlin;VALUE=DATE:20250811
DTEND;TZID=Europe/Berlin;VALUE=DATE:20250816
SEQUENCE:0
TRANSP:OPAQUE
END:VEVENT
END:VCALENDAR