BEGIN:VCALENDAR
VERSION:2.0
PRODID:-//jEvents 2.0 for Joomla//EN
CALSCALE:GREGORIAN
METHOD:PUBLISH
BEGIN:VTIMEZONE
TZID:Europe/Berlin
END:VTIMEZONE
BEGIN:VEVENT
UID:7c9954c79d44d828ccd1c29f8246c431
CATEGORIES:Prüfungswesen
CREATED:20250107T145250
SUMMARY:Dan Prüfung
LOCATION:Bad Homburg
DESCRIPTION;ENCODING=QUOTED-PRINTABLE:<div class="viovendi-widget viovendi-booking-widget" data-viovendi-locale="
 de-de" data-viovendi-organizer="5182" data-viovendi-widget-config-name="boo
 king-5182-78216" data-viovendi-event="180936">&nbsp;</div><script src="http
 s://doo.net/viovendi-embed.js" type="text/javascript" data-viovendi-version
 ="1"></script>
CONTACT:Michaelo Walter
DTSTAMP:20260421T163915Z
DTSTART;TZID=Europe/Berlin;VALUE=DATE:20250629
DTEND;TZID=Europe/Berlin;VALUE=DATE:20250630
SEQUENCE:0
TRANSP:OPAQUE
END:VEVENT
END:VCALENDAR