BEGIN:VCALENDAR
VERSION:2.0
PRODID:-//jEvents 2.0 for Joomla//EN
CALSCALE:GREGORIAN
METHOD:PUBLISH
BEGIN:VTIMEZONE
TZID:Europe/Berlin
END:VTIMEZONE
BEGIN:VEVENT
UID:8193109314d1fe1011bbdbdf38b47b8f
CATEGORIES:Prüfungswesen
CREATED:20250107T145150
SUMMARY:Dan Vorbereitungslehrgang
LOCATION:TV Gladenbach/ Gladenbach
DESCRIPTION;ENCODING=QUOTED-PRINTABLE:<div class="viovendi-widget viovendi-booking-widget" data-viovendi-locale="
 de-de" data-viovendi-organizer="5182" data-viovendi-widget-config-name="boo
 king-5182-78236" data-viovendi-event="180952">&nbsp;</div><script src="http
 s://doo.net/viovendi-embed.js" type="text/javascript" data-viovendi-version
 ="1"></script>
CONTACT:Michaelo Walter
DTSTAMP:20260423T150111Z
DTSTART;TZID=Europe/Berlin;VALUE=DATE:20250615
DTEND;TZID=Europe/Berlin;VALUE=DATE:20250616
SEQUENCE:0
TRANSP:OPAQUE
END:VEVENT
END:VCALENDAR