BEGIN:VCALENDAR
VERSION:2.0
PRODID:-//jEvents 2.0 for Joomla//EN
CALSCALE:GREGORIAN
METHOD:PUBLISH
BEGIN:VTIMEZONE
TZID:Europe/Berlin
END:VTIMEZONE
BEGIN:VEVENT
UID:7d4fb1b526e31b020aaeceedaa300f17
CATEGORIES:Prüfungswesen
CREATED:20250107T144743
SUMMARY:Dan Prüfung
LOCATION:BG Darmstadt
DESCRIPTION;ENCODING=QUOTED-PRINTABLE:&nbsp;
CONTACT:Michaelo Walter
DTSTAMP:20260421T105026Z
DTSTART;TZID=Europe/Berlin;VALUE=DATE:20250323
DTEND;TZID=Europe/Berlin;VALUE=DATE:20250324
SEQUENCE:0
TRANSP:OPAQUE
END:VEVENT
END:VCALENDAR