BEGIN:VCALENDAR
VERSION:2.0
PRODID:-//jEvents 2.0 for Joomla//EN
CALSCALE:GREGORIAN
METHOD:PUBLISH
BEGIN:VTIMEZONE
TZID:Europe/Berlin
END:VTIMEZONE
BEGIN:VEVENT
UID:0e3b21cf49868d9f3aef080c87e3b850
CATEGORIES:Prüfungswesen
CREATED:20250107T144637
SUMMARY:Dan Vorbereitung
LOCATION:Lindenfels
DESCRIPTION;ENCODING=QUOTED-PRINTABLE:<div class="viovendi-widget viovendi-booking-widget" data-viovendi-locale="
 de-de" data-viovendi-organizer="5182" data-viovendi-widget-config-name="boo
 king-5182-78230" data-viovendi-event="180943">&nbsp;</div><script src="http
 s://doo.net/viovendi-embed.js" type="text/javascript" data-viovendi-version
 ="1"></script>
CONTACT:Michaelo Walter
DTSTAMP:20260421T180303Z
DTSTART;TZID=Europe/Berlin;VALUE=DATE:20250309
DTEND;TZID=Europe/Berlin;VALUE=DATE:20250310
SEQUENCE:0
TRANSP:OPAQUE
END:VEVENT
END:VCALENDAR