BEGIN:VCALENDAR
VERSION:2.0
PRODID:-//jEvents 2.0 for Joomla//EN
CALSCALE:GREGORIAN
METHOD:PUBLISH
BEGIN:VTIMEZONE
TZID:Europe/Berlin
END:VTIMEZONE
BEGIN:VEVENT
UID:b10bbb419d422a8bf1523b389808b6c8
CATEGORIES:Prüfungswesen
CREATED:20250107T144323
SUMMARY:Master Class Lehrgang
LOCATION:TSV Gambach/ Münzenberg
DESCRIPTION;ENCODING=QUOTED-PRINTABLE:&nbsp;
CONTACT:Michaelo Walter
DTSTAMP:20260421T174701Z
DTSTART;TZID=Europe/Berlin;VALUE=DATE:20250215
DTEND;TZID=Europe/Berlin;VALUE=DATE:20250216
SEQUENCE:0
TRANSP:OPAQUE
END:VEVENT
END:VCALENDAR