BEGIN:VCALENDAR
VERSION:2.0
PRODID:-//jEvents 2.0 for Joomla//EN
CALSCALE:GREGORIAN
METHOD:PUBLISH
BEGIN:VTIMEZONE
TZID:Europe/Berlin
END:VTIMEZONE
BEGIN:VEVENT
UID:3af73f3698604f98a42b1ad6d29915eb
CATEGORIES:Prüfungswesen
CREATED:20250107T144200
SUMMARY:Dan Vorbereitung
LOCATION:Tvgg Lorsch\, Ludwig-Gärtner-Straße 3-6\, 64653 Lorsch
DESCRIPTION;ENCODING=QUOTED-PRINTABLE:&nbsp;
CONTACT:Michaelo Walter
DTSTAMP:20260425T205324Z
DTSTART;TZID=Europe/Berlin;VALUE=DATE:20250126
DTEND;TZID=Europe/Berlin;VALUE=DATE:20250127
SEQUENCE:0
TRANSP:OPAQUE
END:VEVENT
END:VCALENDAR