BEGIN:VCALENDAR
VERSION:2.0
PRODID:-//jEvents 2.0 for Joomla//EN
CALSCALE:GREGORIAN
METHOD:PUBLISH
BEGIN:VTIMEZONE
TZID:Europe/Berlin
END:VTIMEZONE
BEGIN:VEVENT
UID:ff6648db4243466f7c071175d219e669
CATEGORIES:Wettkampfsport
CREATED:20241222T161112
SUMMARY:Bundesliga 2/7
LOCATION:N. N.
DESCRIPTION;ENCODING=QUOTED-PRINTABLE:\n\nBuli 2/7\n
CONTACT:DJB
DTSTAMP:20260421T163719Z
DTSTART;TZID=Europe/Berlin;VALUE=DATE:20250906
DTEND;TZID=Europe/Berlin;VALUE=DATE:20250907
SEQUENCE:0
TRANSP:OPAQUE
END:VEVENT
END:VCALENDAR