BEGIN:VCALENDAR
VERSION:2.0
PRODID:-//jEvents 2.0 for Joomla//EN
CALSCALE:GREGORIAN
METHOD:PUBLISH
BEGIN:VTIMEZONE
TZID:Europe/Berlin
END:VTIMEZONE
BEGIN:VEVENT
UID:e1181d6c2e473fa4fcf827e4c3b9e429
CATEGORIES:Wettkampfsport
CREATED:20241222T161008
SUMMARY:Bundesliga 2/5
LOCATION:N. N.
DESCRIPTION;ENCODING=QUOTED-PRINTABLE:\n\nBuli 2/5\n
CONTACT:DJB
DTSTAMP:20260421T180058Z
DTSTART;TZID=Europe/Berlin;VALUE=DATE:20250628
DTEND;TZID=Europe/Berlin;VALUE=DATE:20250629
SEQUENCE:0
TRANSP:OPAQUE
END:VEVENT
END:VCALENDAR