BEGIN:VCALENDAR
VERSION:2.0
PRODID:-//jEvents 2.0 for Joomla//EN
CALSCALE:GREGORIAN
METHOD:PUBLISH
BEGIN:VTIMEZONE
TZID:Europe/Berlin
END:VTIMEZONE
BEGIN:VEVENT
UID:d96da0b5af661da16b85e8db671acbe2
CATEGORIES:MU15, FU15
CREATED:20241221T155803
SUMMARY:Ronneburg Lehrgang 
LOCATION:Ronneburg
DESCRIPTION;ENCODING=QUOTED-PRINTABLE:<div class="viovendi-widget viovendi-booking-widget" data-viovendi-locale="
 de-de" data-viovendi-widget-config-name="booking-5182-83524" data-viovendi-
 event="187919" data-viovendi-organizer="5182">&nbsp;</div><script src="http
 s://doo.net/viovendi-embed.js" type="text/javascript" data-viovendi-version
 ="1"></script>
CONTACT:HJV Jugendleitung 
DTSTAMP:20260421T122301Z
DTSTART;TZID=Europe/Berlin;VALUE=DATE:20250728
DTEND;TZID=Europe/Berlin;VALUE=DATE:20250802
SEQUENCE:0
TRANSP:OPAQUE
END:VEVENT
END:VCALENDAR