BEGIN:VCALENDAR
VERSION:2.0
PRODID:-//jEvents 2.0 for Joomla//EN
CALSCALE:GREGORIAN
METHOD:PUBLISH
BEGIN:VTIMEZONE
TZID:Europe/Berlin
END:VTIMEZONE
BEGIN:VEVENT
UID:e1b4a4c32073de9f48667fa98900e526
CATEGORIES:Männer, MU18, MU21, Frauen, FU18, FU21
CREATED:20241221T144741
SUMMARY:Landesrandori
LOCATION:Konrad-Adenauer-Ring 55\, 65187 Wiesbaden.
DESCRIPTION;ENCODING=QUOTED-PRINTABLE:\n\nFür die Altersklassen U 18 und U 21. (keine U 15)\n\n\nErste TE ist von
  10.00 Uhr - 12.00 Uhr und&nbsp;zweite TE von 13.00 Uhr -&nbsp;15.00 Uhr.\n
CONTACT:HJV Jugenleitung / Sportwarte 
DTSTAMP:20260421T215218Z
DTSTART;TZID=Europe/Berlin;VALUE=DATE:20250222
DTEND;TZID=Europe/Berlin;VALUE=DATE:20250223
SEQUENCE:0
TRANSP:OPAQUE
END:VEVENT
END:VCALENDAR