BEGIN:VCALENDAR
VERSION:2.0
PRODID:-//jEvents 2.0 for Joomla//EN
CALSCALE:GREGORIAN
METHOD:PUBLISH
BEGIN:VTIMEZONE
TZID:Europe/Berlin
END:VTIMEZONE
BEGIN:VEVENT
UID:22783e7e4031d3c492a00820f657ab1b
CATEGORIES:MU15, MU18, FU15, FU18
CREATED:20241221T141742
SUMMARY:Bundessichtungsturnier
LOCATION:Straußberg
DESCRIPTION;ENCODING=QUOTED-PRINTABLE:<p>Bundessichtungsturnier</p>
CONTACT:HJV Jugendleitung 
DTSTAMP:20260421T180346Z
DTSTART;TZID=Europe/Berlin;VALUE=DATE:20250201
DTEND;TZID=Europe/Berlin;VALUE=DATE:20250202
SEQUENCE:0
TRANSP:OPAQUE
END:VEVENT
END:VCALENDAR