BEGIN:VCALENDAR
VERSION:2.0
PRODID:-//jEvents 2.0 for Joomla//EN
CALSCALE:GREGORIAN
METHOD:PUBLISH
BEGIN:VTIMEZONE
TZID:Europe/Berlin
END:VTIMEZONE
BEGIN:VEVENT
UID:0022a740c8ef23c95cf58a735ccf73ad
CATEGORIES:Breitensport
CREATED:20241216T172806
SUMMARY:Breitensport Ü50
LOCATION:35435 Wettenberg / Krofdorf-Gleiberg\, Turnhallenstraße 		Mehrzweckhalle ne
 ben der Eduard-David Sporthalle
DESCRIPTION;ENCODING=QUOTED-PRINTABLE:<div class="viovendi-widget viovendi-booking-widget" data-viovendi-locale="
 de-de" data-viovendi-organizer="5182" data-viovendi-widget-config-name="boo
 king-5182-76561" data-viovendi-event="178370">&nbsp;</div><script src="http
 s://doo.net/viovendi-embed.js" type="text/javascript" data-viovendi-version
 ="1"></script>
CONTACT:Wolfgang Geissler
DTSTAMP:20260419T134517Z
DTSTART;TZID=Europe/Berlin;VALUE=DATE:20250406
DTEND;TZID=Europe/Berlin;VALUE=DATE:20250407
SEQUENCE:0
TRANSP:OPAQUE
END:VEVENT
END:VCALENDAR