BEGIN:VCALENDAR
VERSION:2.0
PRODID:-//jEvents 2.0 for Joomla//EN
CALSCALE:GREGORIAN
METHOD:PUBLISH
BEGIN:VTIMEZONE
TZID:Europe/Berlin
END:VTIMEZONE
BEGIN:VEVENT
UID:efdcdaf3c7a95cc30eafa006092459e2
CATEGORIES:MU18, FU18
CREATED:20241118T175852
SUMMARY:Hessische Einzelmeisterschaften U18
LOCATION:Sporthalle der Steinmühle\, Steinmühlenweg 21\, 35043 Marburg
DESCRIPTION;ENCODING=QUOTED-PRINTABLE:\n\nHEM U18\n
CONTACT:Jugendleitung
DTSTAMP:20260421T133221Z
DTSTART;TZID=Europe/Berlin;VALUE=DATE:20250208
DTEND;TZID=Europe/Berlin;VALUE=DATE:20250209
SEQUENCE:0
TRANSP:OPAQUE
END:VEVENT
END:VCALENDAR