BEGIN:VCALENDAR
VERSION:2.0
PRODID:-//jEvents 2.0 for Joomla//EN
CALSCALE:GREGORIAN
METHOD:PUBLISH
BEGIN:VTIMEZONE
TZID:Europe/Berlin
END:VTIMEZONE
BEGIN:VEVENT
UID:9ab518272258fdfb0f46d563837d9ec9
CATEGORIES:Breitensport, Kata
CREATED:20250821T193220
SUMMARY:HJV Kata Kader Training
LOCATION:Dojo der TSG Frankfurt Nordwest\, Weißkirchener Weg 12\, 60439 Frankfurt am
  Main 
DESCRIPTION;ENCODING=QUOTED-PRINTABLE:&nbsp;
CONTACT:Eduard van Thurenhout
DTSTAMP:20260424T124545Z
DTSTART;TZID=Europe/Berlin;VALUE=DATE:20250921
DTEND;TZID=Europe/Berlin;VALUE=DATE:20250922
SEQUENCE:0
TRANSP:OPAQUE
END:VEVENT
END:VCALENDAR