BEGIN:VCALENDAR
VERSION:2.0
PRODID:-//jEvents 2.0 for Joomla//EN
CALSCALE:GREGORIAN
METHOD:PUBLISH
BEGIN:VTIMEZONE
TZID:Europe/Berlin
BEGIN:STANDARD
DTSTART:20221030T020000
RDATE:20230326T030000
TZOFFSETFROM:+0200
TZOFFSETTO:+0100
TZNAME:Europe/Berlin CET
END:STANDARD
BEGIN:DAYLIGHT
DTSTART:20220915T000000
RDATE:20221030T020000
TZOFFSETFROM:+0100
TZOFFSETTO:+0200
TZNAME:Europe/Berlin CEST
END:DAYLIGHT
END:VTIMEZONE
BEGIN:VEVENT
UID:424fd267f5ea4c3d5adfdca7de8a438e
CATEGORIES:FU17
CREATED:20230112T144847
SUMMARY:Bundessichtung U17w
LOCATION:Abensberg
DESCRIPTION;ENCODING=QUOTED-PRINTABLE:<p>DJB Bundessichtungsturnier für Frauen U17&nbsp;beim TSV Abensberg</p>
CONTACT:Landestrainer
DTSTAMP:20260424T023447Z
DTSTART;TZID=Europe/Berlin;VALUE=DATE:20230916
DTEND;TZID=Europe/Berlin;VALUE=DATE:20230917
SEQUENCE:0
TRANSP:OPAQUE
END:VEVENT
END:VCALENDAR