BEGIN:VCALENDAR
VERSION:2.0
PRODID:-//jEvents 2.0 for Joomla//EN
CALSCALE:GREGORIAN
METHOD:PUBLISH
BEGIN:VTIMEZONE
TZID:Europe/Berlin
END:VTIMEZONE
BEGIN:VEVENT
UID:60fd32214b1e2cc040a32ecaae657d47
CATEGORIES:Kata
CREATED:20260402T092951
SUMMARY:Deutsche Kata-Meisterschaften 2026 und Inklusive Deutsche Kata-Meisterschaft ID-Judo 2026
LOCATION:Freital
DESCRIPTION;ENCODING=QUOTED-PRINTABLE:<p><a href="https://www.judobund.de/aktuelles/termine/details#573748" targe
 t="_blank" rel="noopener">Deutsche Kata Meisterschaft F/M</a></p><p>&nbsp;<
 /p><p><a href="images/2026/Ausschreibungen/Ausschreibungen_DKM_und_Inklusiv
 eDKM_2026_in_Freital.pdf" target="_blank">Ausschreibung</a></p>
CONTACT:Sebastian Frey, Cornelia Claßen (DJB)
DTSTAMP:20260425T192347Z
DTSTART;TZID=Europe/Berlin;VALUE=DATE:20260620
DTEND;TZID=Europe/Berlin;VALUE=DATE:20260622
SEQUENCE:0
TRANSP:OPAQUE
END:VEVENT
END:VCALENDAR