BEGIN:VCALENDAR
VERSION:2.0
PRODID:-//jEvents 2.0 for Joomla//EN
CALSCALE:GREGORIAN
METHOD:PUBLISH
BEGIN:VTIMEZONE
TZID:Europe/Berlin
END:VTIMEZONE
BEGIN:VEVENT
UID:cb2557b0d595a86c48ffea08abb4f566
CATEGORIES:Breitensport
CREATED:20260102T125133
SUMMARY:Breitensport: Veteranen Randori
LOCATION:N. N.
DESCRIPTION;ENCODING=QUOTED-PRINTABLE:\n\nInformation und Anmeldung\n
CONTACT:Theodor Keppel
DTSTAMP:20260425T193814Z
DTSTART;TZID=Europe/Berlin;VALUE=DATE:20261004
DTEND;TZID=Europe/Berlin;VALUE=DATE:20261005
SEQUENCE:0
TRANSP:OPAQUE
END:VEVENT
END:VCALENDAR