BEGIN:VCALENDAR
VERSION:2.0
PRODID:-//jEvents 2.0 for Joomla//EN
CALSCALE:GREGORIAN
METHOD:PUBLISH
BEGIN:VTIMEZONE
TZID:Europe/Berlin
END:VTIMEZONE
BEGIN:VEVENT
UID:3ea8fc1b044b18510fa819feb43f65cb
CATEGORIES:Prüfungswesen
CREATED:20251121T130728
SUMMARY:Prüfungswesen: Lehrgang Dan-Vorbereitung
LOCATION:Griesheim
DESCRIPTION;ENCODING=QUOTED-PRINTABLE:<p><a href="https://djb.dokume.app/#/events_registration/register/3126" sty
 le="color: blue;">Weitere Informationen und Anmeldung</a><br />Dafür halte 
 bitte bereit: Das persönliche DokuMe-Passwort</p>
DTSTAMP:20260425T183208Z
DTSTART;TZID=Europe/Berlin;VALUE=DATE:20260913
DTEND;TZID=Europe/Berlin;VALUE=DATE:20260914
SEQUENCE:0
TRANSP:OPAQUE
END:VEVENT
END:VCALENDAR