BEGIN:VCALENDAR
VERSION:2.0
PRODID:-//jEvents 2.0 for Joomla//EN
CALSCALE:GREGORIAN
METHOD:PUBLISH
BEGIN:VTIMEZONE
TZID:Europe/Berlin
END:VTIMEZONE
BEGIN:VEVENT
UID:c48c71a690b06addf35aa7a2b14bc15a
CATEGORIES:Männer
CREATED:20241003T101933
SUMMARY:Bezirksliga Hessen 2024 Männer, NORD/ OST und SÜD/WEST: Startgeld Mannschaft
LOCATION:Odenwaldhalle Rimbach  Kleiststraße 11  64668 Rimbach
DESCRIPTION;ENCODING=QUOTED-PRINTABLE:<p>Bezirksliga 2024 Nord/Ost und Süd/West</p>
CONTACT:Ralf Bacher
DTSTAMP:20260424T131249Z
DTSTART;TZID=Europe/Berlin;VALUE=DATE:20241214
DTEND;TZID=Europe/Berlin;VALUE=DATE:20241215
SEQUENCE:0
TRANSP:OPAQUE
END:VEVENT
END:VCALENDAR