BEGIN:VCALENDAR
VERSION:2.0
PRODID:-//jEvents 2.0 for Joomla//EN
CALSCALE:GREGORIAN
METHOD:PUBLISH
BEGIN:VTIMEZONE
TZID:Europe/Berlin
END:VTIMEZONE
BEGIN:VEVENT
UID:3bb081f9851a67532595e9bef4bd9cdd
CATEGORIES:Männer, MU15, MU18, MU21, Frauen, FU15, FU18, FU21
CREATED:20240918T113826
SUMMARY:Randori-Lehrgang U15(ältester Jahrgang)-M/F
LOCATION:Sporthalle/Dojo HTG  Niederstedter Weg 2  61348 Bad Homburg
DESCRIPTION;ENCODING=QUOTED-PRINTABLE:<div class="viovendi-widget viovendi-booking-widget" data-viovendi-locale="
 de-de" data-viovendi-organizer="5182" data-viovendi-widget-config-name="boo
 king-5182-70323" data-viovendi-event="169911">&nbsp;</div><script src="http
 s://doo.net/viovendi-embed.js" type="text/javascript" data-viovendi-version
 ="1"></script>
CONTACT:HJV Jugendleitung 
DTSTAMP:20260420T070232Z
DTSTART;TZID=Europe/Berlin;VALUE=DATE:20241003
DTEND;TZID=Europe/Berlin;VALUE=DATE:20241004
SEQUENCE:0
TRANSP:OPAQUE
END:VEVENT
END:VCALENDAR