BEGIN:VCALENDAR
VERSION:2.0
PRODID:-//jEvents 2.0 for Joomla//EN
CALSCALE:GREGORIAN
METHOD:PUBLISH
BEGIN:VTIMEZONE
TZID:Europe/Berlin
END:VTIMEZONE
BEGIN:VEVENT
UID:04b045039fbce200da1e9362abd0dbbc
CATEGORIES:Kata
CREATED:20240811T100858
SUMMARY:German Kata Open 2024
LOCATION:Turnhalle der Werner-von-Siemens-Schule & BudoArena  Ascherstr. 60-62 63477
  Maintal
DESCRIPTION;ENCODING=QUOTED-PRINTABLE:<p>Wettbewerbe German Kata Open <br />Erwachsene (ab Jahrgang 2007):<br />N
 age no kata, Katame no kata, Kime no kata, Kodokan Goshin jutsu, <br />Ju n
 o kata and Koshiki no kata<br /><br />Kadetten (Jahrgang 2007-2012):<br />N
 age no kata (Gr. 1-3)</p>
CONTACT:Sebastian Frey, DJB
DTSTAMP:20260420T070347Z
DTSTART;TZID=Europe/Berlin;VALUE=DATE:20241006
DTEND;TZID=Europe/Berlin;VALUE=DATE:20241007
SEQUENCE:0
TRANSP:OPAQUE
END:VEVENT
END:VCALENDAR