BEGIN:VCALENDAR
VERSION:2.0
PRODID:-//jEvents 2.0 for Joomla//EN
CALSCALE:GREGORIAN
METHOD:PUBLISH
BEGIN:VTIMEZONE
TZID:Europe/Berlin
END:VTIMEZONE
BEGIN:VEVENT
UID:51f37829c8341f97b9cea7483158a78f
CATEGORIES:Breitensport
CREATED:20240626T122454
SUMMARY:Breitensportlehrgang Ü50 + Kata (Seiryoko zen`yo kokumin taiiku)
LOCATION:TSV 1903 Gambach e.V. 35516 Münzenberg / Gambach\, Schulstraße 11 Schulspor
 thalle
DESCRIPTION;ENCODING=QUOTED-PRINTABLE:<div class="viovendi-widget viovendi-booking-widget" data-viovendi-locale="
 de-de" data-viovendi-organizer="5182" data-viovendi-widget-config-name="boo
 king-5182-66544" data-viovendi-event="164113">&nbsp;</div><script src="http
 s://doo.net/viovendi-embed.js" type="text/javascript" data-viovendi-version
 ="1"></script>
CONTACT:Wolfgang Geissler
DTSTAMP:20260420T070227Z
DTSTART;TZID=Europe/Berlin;VALUE=DATE:20241027
DTEND;TZID=Europe/Berlin;VALUE=DATE:20241028
SEQUENCE:0
TRANSP:OPAQUE
END:VEVENT
END:VCALENDAR