BEGIN:VCALENDAR
VERSION:2.0
PRODID:-//jEvents 2.0 for Joomla//EN
CALSCALE:GREGORIAN
METHOD:PUBLISH
BEGIN:VTIMEZONE
TZID:Europe/Berlin
END:VTIMEZONE
BEGIN:VEVENT
UID:909d6f8145327efa7a6df740c58a181b
CATEGORIES:Breitensport
CREATED:20240626T122406
SUMMARY:Breitensportlehrgang Ü50 + Kata (Seiryoko zen`yo kokumin taiiku)
LOCATION:TSV 1903 Gambach e.V. 35516 Münzenberg / Gambach\, Schulstraße 11 Schulspor
 thalle
DESCRIPTION;ENCODING=QUOTED-PRINTABLE:<div class="viovendi-widget viovendi-booking-widget" data-viovendi-locale="
 de-de" data-viovendi-organizer="5182" data-viovendi-widget-config-name="boo
 king-5182-66542" data-viovendi-event="164109">&nbsp;</div><script src="http
 s://doo.net/viovendi-embed.js" type="text/javascript" data-viovendi-version
 ="1"></script>
CONTACT:Wolfgang Geissler
DTSTAMP:20260420T070248Z
DTSTART;TZID=Europe/Berlin;VALUE=DATE:20241020
DTEND;TZID=Europe/Berlin;VALUE=DATE:20241021
SEQUENCE:0
TRANSP:OPAQUE
END:VEVENT
END:VCALENDAR