BEGIN:VCALENDAR
VERSION:2.0
PRODID:-//jEvents 2.0 for Joomla//EN
CALSCALE:GREGORIAN
METHOD:PUBLISH
BEGIN:VTIMEZONE
TZID:Europe/Berlin
END:VTIMEZONE
BEGIN:VEVENT
UID:8b237f59bbf5c7596e702d22bdf25506
CATEGORIES:Sonstige
CREATED:20240426T171347
SUMMARY:HJV Jugendversammlung 2024
LOCATION:Bad Homburg\, Niederstedter Weg 2\, Primodeus Park (ehemals Ferry Park)
DESCRIPTION;ENCODING=QUOTED-PRINTABLE:<p>Stimmvergabe: 09:30 - 10:00 Uhr<br />Dauer: 10:00 - 13:00 Uhr</p>
CONTACT:HJV Jugendleitung 
DTSTAMP:20260420T070343Z
DTSTART;TZID=Europe/Berlin;VALUE=DATE:20240623
DTEND;TZID=Europe/Berlin;VALUE=DATE:20240624
SEQUENCE:0
TRANSP:OPAQUE
END:VEVENT
END:VCALENDAR