BEGIN:VCALENDAR
VERSION:2.0
PRODID:-//jEvents 2.0 for Joomla//EN
CALSCALE:GREGORIAN
METHOD:PUBLISH
BEGIN:VTIMEZONE
TZID:Europe/Berlin
END:VTIMEZONE
BEGIN:VEVENT
UID:1de972d464a8d11974cfde1df0ea8268
CATEGORIES:Kata, Handycap-Judo
CREATED:20240424T131910
SUMMARY:Deutsche Kata-Meisterschaften 2024 und Inklusive Deutsche Kata-Meisterschaft ID-Judo 2024
LOCATION:Karl-Heinz-Hiersemann Halle\, Schillerstraße 56\, 91054 Erlangen (parallel 
 zur Drausnickstraße\, Berufschulzentrum)
DESCRIPTION;ENCODING=QUOTED-PRINTABLE:<p><a href="https://event.dokume.net/#/32345/DKM24">https://event.dokume.ne
 t/#/32345/DKM24</a></p>
CONTACT:DJB 
DTSTAMP:20260420T070258Z
DTSTART;TZID=Europe/Berlin;VALUE=DATE:20240622
DTEND;TZID=Europe/Berlin;VALUE=DATE:20240624
SEQUENCE:0
TRANSP:OPAQUE
END:VEVENT
END:VCALENDAR