BEGIN:VCALENDAR
VERSION:2.0
PRODID:-//jEvents 2.0 for Joomla//EN
CALSCALE:GREGORIAN
METHOD:PUBLISH
BEGIN:VTIMEZONE
TZID:Europe/Berlin
END:VTIMEZONE
BEGIN:VEVENT
UID:144e7ef1c8bfabc485fa1490dcc0f898
CATEGORIES:MU21, FU21
CREATED:20240423T104932
SUMMARY:European Cup U21 Graz
LOCATION:Graz
DESCRIPTION;ENCODING=QUOTED-PRINTABLE:<p>Ec Graz</p>
CONTACT:Sportwarte
DTSTAMP:20260420T083416Z
DTSTART;TZID=Europe/Berlin;VALUE=DATE:20240601
DTEND;TZID=Europe/Berlin;VALUE=DATE:20240603
SEQUENCE:0
TRANSP:OPAQUE
END:VEVENT
END:VCALENDAR