BEGIN:VCALENDAR
VERSION:2.0
PRODID:-//jEvents 2.0 for Joomla//EN
CALSCALE:GREGORIAN
METHOD:PUBLISH
BEGIN:VTIMEZONE
TZID:Europe/Berlin
END:VTIMEZONE
BEGIN:VEVENT
UID:cdb052fa403d1bb9e375749c2c94ace2
CATEGORIES:MU11, MU13, MU15, MU18, FU11, FU13, FU15, FU18
CREATED:20240106T151731
SUMMARY:HJV- Bezirk Ost Bezirksrandori-Lehrgang 
LOCATION:Frankfurt am Main\, Pfingstweidstraße 7 (FTV 1860)
DESCRIPTION;ENCODING=QUOTED-PRINTABLE:<p>Zeit: 13.00 - 17.00 Uhr</p>
CONTACT:Julian Jungermann
DTSTAMP:20260420T083251Z
DTSTART;TZID=Europe/Berlin;VALUE=DATE:20241012
DTEND;TZID=Europe/Berlin;VALUE=DATE:20241013
SEQUENCE:0
TRANSP:OPAQUE
END:VEVENT
END:VCALENDAR