BEGIN:VCALENDAR
VERSION:2.0
PRODID:-//jEvents 2.0 for Joomla//EN
CALSCALE:GREGORIAN
METHOD:PUBLISH
BEGIN:VTIMEZONE
TZID:Europe/Berlin
END:VTIMEZONE
BEGIN:VEVENT
UID:4618e6dc6e7ca7a55dab8c7bc6ebc978
CATEGORIES:Versammlungen
CREATED:20240106T151136
SUMMARY:HJV- Bezirk Ost Versammlung
LOCATION:Frankfurt am Main\, Pfingstweidstraße 7 (FTV 1860)
DESCRIPTION;ENCODING=QUOTED-PRINTABLE:\n\nZeit:&nbsp; 15.30 -17.00 Uhr\n\n\nparallel zum Bezirkslehrgang\n
CONTACT:Julian Jungermann
DTSTAMP:20260420T065750Z
DTSTART;TZID=Europe/Berlin;VALUE=DATE:20241012
DTEND;TZID=Europe/Berlin;VALUE=DATE:20241013
SEQUENCE:0
TRANSP:OPAQUE
END:VEVENT
END:VCALENDAR