BEGIN:VCALENDAR
VERSION:2.0
PRODID:-//jEvents 2.0 for Joomla//EN
CALSCALE:GREGORIAN
METHOD:PUBLISH
BEGIN:VTIMEZONE
TZID:Europe/Berlin
END:VTIMEZONE
BEGIN:VEVENT
UID:edeab8acdbf309abb1e200a82bd68be2
CATEGORIES:Prüfungswesen
CREATED:20231229T115233
SUMMARY:Dan-Prüfung
LOCATION:Vellmar
DESCRIPTION;ENCODING=QUOTED-PRINTABLE:&nbsp;
DTSTAMP:20260420T040037Z
DTSTART;TZID=Europe/Berlin;VALUE=DATE:20241116
DTEND;TZID=Europe/Berlin;VALUE=DATE:20241117
SEQUENCE:0
TRANSP:OPAQUE
END:VEVENT
END:VCALENDAR