BEGIN:VCALENDAR
VERSION:2.0
PRODID:-//jEvents 2.0 for Joomla//EN
CALSCALE:GREGORIAN
METHOD:PUBLISH
BEGIN:VTIMEZONE
TZID:Europe/Berlin
END:VTIMEZONE
BEGIN:VEVENT
UID:6fb03bb187ac6f3cd188fc5826ad5b42
CATEGORIES:Prüfungswesen
CREATED:20231229T115101
SUMMARY:Dan-Vorbereitungslehrgang
LOCATION:Gambach
DESCRIPTION;ENCODING=QUOTED-PRINTABLE:&nbsp;
DTSTAMP:20260422T103439Z
DTSTART;TZID=Europe/Berlin;VALUE=DATE:20241013
DTEND;TZID=Europe/Berlin;VALUE=DATE:20241014
SEQUENCE:0
TRANSP:OPAQUE
END:VEVENT
END:VCALENDAR