BEGIN:VCALENDAR
VERSION:2.0
PRODID:-//jEvents 2.0 for Joomla//EN
CALSCALE:GREGORIAN
METHOD:PUBLISH
BEGIN:VTIMEZONE
TZID:Europe/Berlin
END:VTIMEZONE
BEGIN:VEVENT
UID:8f73ca13204a23ff57a57bb8ce2184f6
CATEGORIES:Wettkampfsport
CREATED:20231227T171309
SUMMARY:Landesentscheid JtfO
LOCATION:Vellmar
DESCRIPTION;ENCODING=QUOTED-PRINTABLE:<p>JtfO</p>
DTSTAMP:20260422T143216Z
DTSTART;TZID=Europe/Berlin;VALUE=DATE:20240619
DTEND;TZID=Europe/Berlin;VALUE=DATE:20240620
SEQUENCE:0
TRANSP:OPAQUE
END:VEVENT
END:VCALENDAR