BEGIN:VCALENDAR
VERSION:2.0
PRODID:-//jEvents 2.0 for Joomla//EN
CALSCALE:GREGORIAN
METHOD:PUBLISH
BEGIN:VTIMEZONE
TZID:Europe/Berlin
END:VTIMEZONE
BEGIN:VEVENT
UID:26a5c2558756ba5d62831d8566a45d44
CATEGORIES:Männer, Frauen
CREATED:20231227T141306
SUMMARY:Landesoffene Mixed Turnier?
LOCATION:N. N.
DESCRIPTION;ENCODING=QUOTED-PRINTABLE:<p>Landesoffene Mixed Turnier?</p>
DTSTAMP:20260422T132814Z
DTSTART;TZID=Europe/Berlin;VALUE=DATE:20241207
DTEND;TZID=Europe/Berlin;VALUE=DATE:20241208
SEQUENCE:0
TRANSP:OPAQUE
END:VEVENT
END:VCALENDAR