BEGIN:VCALENDAR
VERSION:2.0
PRODID:-//jEvents 2.0 for Joomla//EN
CALSCALE:GREGORIAN
METHOD:PUBLISH
BEGIN:VTIMEZONE
TZID:Europe/Berlin
END:VTIMEZONE
BEGIN:VEVENT
UID:a2ca9d25460588baba673681d660cf8e
CATEGORIES:MU18, FU18
CREATED:20231227T135435
SUMMARY:Internationales Trainings Camp U18
LOCATION:Koper (SLO)
DESCRIPTION;ENCODING=QUOTED-PRINTABLE:\n\nITC u18\n
DTSTAMP:20260420T065744Z
DTSTART;TZID=Europe/Berlin;VALUE=DATE:20241028
DTEND;TZID=Europe/Berlin;VALUE=DATE:20241031
SEQUENCE:0
TRANSP:OPAQUE
END:VEVENT
END:VCALENDAR