BEGIN:VCALENDAR
VERSION:2.0
PRODID:-//jEvents 2.0 for Joomla//EN
CALSCALE:GREGORIAN
METHOD:PUBLISH
BEGIN:VTIMEZONE
TZID:Europe/Berlin
END:VTIMEZONE
BEGIN:VEVENT
UID:6eaeff0e7363379fd23c02518cf48ca0
CATEGORIES:MU11, MU13, MU15, MU18, MU21, FU11, FU13, FU15, FU18, FU21
CREATED:20231227T134934
SUMMARY:Adler Cup 2024
LOCATION:Frankfurt / Main
DESCRIPTION;ENCODING=QUOTED-PRINTABLE:<p><a href="https://www.adlercup.com/wp-content/uploads/Ausschreibung2024.p
 df" target="_blank" rel="noopener">Adler Cup Ausschreibung</a></p><p><a hre
 f="https://www.adlercup.com/anmeldung-registrierung/" target="_blank" rel="
 noopener">Anmeldung</a></p>
DTSTAMP:20260420T083222Z
DTSTART;TZID=Europe/Berlin;VALUE=DATE:20241025
DTEND;TZID=Europe/Berlin;VALUE=DATE:20241028
SEQUENCE:0
TRANSP:OPAQUE
END:VEVENT
END:VCALENDAR