BEGIN:VCALENDAR
VERSION:2.0
PRODID:-//jEvents 2.0 for Joomla//EN
CALSCALE:GREGORIAN
METHOD:PUBLISH
BEGIN:VTIMEZONE
TZID:Europe/Berlin
END:VTIMEZONE
BEGIN:VEVENT
UID:e8fccd4f9a8015442c19fa44a337e64f
CATEGORIES:MU14, FU14
CREATED:20231227T134603
SUMMARY:IT Leverkusen U14
LOCATION:Leverkusen
DESCRIPTION;ENCODING=QUOTED-PRINTABLE:<p>IT Leverkusen u14</p>
DTSTAMP:20260420T070303Z
DTSTART;TZID=Europe/Berlin;VALUE=DATE:20241013
DTEND;TZID=Europe/Berlin;VALUE=DATE:20241014
SEQUENCE:0
TRANSP:OPAQUE
END:VEVENT
END:VCALENDAR