BEGIN:VCALENDAR
VERSION:2.0
PRODID:-//jEvents 2.0 for Joomla//EN
CALSCALE:GREGORIAN
METHOD:PUBLISH
BEGIN:VTIMEZONE
TZID:Europe/Berlin
END:VTIMEZONE
BEGIN:VEVENT
UID:6e6819aa605642dc1248258b618ca298
CATEGORIES:MU17, MU20, FU17, FU20
CREATED:20231227T134459
SUMMARY:IT Leverkusen u17/u20
LOCATION:Leverkusen
DESCRIPTION;ENCODING=QUOTED-PRINTABLE:<p>IT Leverkusen u17/u20</p>
DTSTAMP:20260420T070308Z
DTSTART;TZID=Europe/Berlin;VALUE=DATE:20241012
DTEND;TZID=Europe/Berlin;VALUE=DATE:20241013
SEQUENCE:0
TRANSP:OPAQUE
END:VEVENT
END:VCALENDAR