BEGIN:VCALENDAR
VERSION:2.0
PRODID:-//jEvents 2.0 for Joomla//EN
CALSCALE:GREGORIAN
METHOD:PUBLISH
BEGIN:VTIMEZONE
TZID:Europe/Berlin
END:VTIMEZONE
BEGIN:VEVENT
UID:7c18994ba6ff7eb266fc5ee59ad34d93
CATEGORIES:Männer, Frauen
CREATED:20231227T134342
SUMMARY:Malaga (ESP)Senior European Cup
LOCATION:Malaga (ESP)
DESCRIPTION;ENCODING=QUOTED-PRINTABLE:\n\nSenior European Cup\n
DTSTAMP:20260420T065744Z
DTSTART;TZID=Europe/Berlin;VALUE=DATE:20241012
DTEND;TZID=Europe/Berlin;VALUE=DATE:20241014
SEQUENCE:0
TRANSP:OPAQUE
END:VEVENT
END:VCALENDAR