BEGIN:VCALENDAR
VERSION:2.0
PRODID:-//jEvents 2.0 for Joomla//EN
CALSCALE:GREGORIAN
METHOD:PUBLISH
BEGIN:VTIMEZONE
TZID:Europe/Berlin
END:VTIMEZONE
BEGIN:VEVENT
UID:ddd08ba88e08c1ba28e4dfc23b9cd3eb
CATEGORIES:Männer, Frauen
CREATED:20231227T134210
SUMMARY:Senior European Cup
LOCATION:TBC (POR)
DESCRIPTION;ENCODING=QUOTED-PRINTABLE:<p>Senior European Cup</p>
DTSTAMP:20260420T070254Z
DTSTART;TZID=Europe/Berlin;VALUE=DATE:20241005
DTEND;TZID=Europe/Berlin;VALUE=DATE:20241007
SEQUENCE:0
TRANSP:OPAQUE
END:VEVENT
END:VCALENDAR