BEGIN:VCALENDAR
VERSION:2.0
PRODID:-//jEvents 2.0 for Joomla//EN
CALSCALE:GREGORIAN
METHOD:PUBLISH
BEGIN:VTIMEZONE
TZID:Europe/Berlin
END:VTIMEZONE
BEGIN:VEVENT
UID:3e033e2b0313b59ddb5e15f38f9b4978
CATEGORIES:Frauen
CREATED:20231227T133453
SUMMARY:Bundesliga-Finale Frauen und Männer
LOCATION:Wiesbaden
DESCRIPTION;ENCODING=QUOTED-PRINTABLE:\n\nBundesliga-Finale Frauen\n
DTSTAMP:20260420T070006Z
DTSTART;TZID=Europe/Berlin;VALUE=DATE:20241005
DTEND;TZID=Europe/Berlin;VALUE=DATE:20241006
SEQUENCE:0
TRANSP:OPAQUE
END:VEVENT
END:VCALENDAR