BEGIN:VCALENDAR
VERSION:2.0
PRODID:-//jEvents 2.0 for Joomla//EN
CALSCALE:GREGORIAN
METHOD:PUBLISH
BEGIN:VTIMEZONE
TZID:Europe/Berlin
END:VTIMEZONE
BEGIN:VEVENT
UID:9300e148fc8d510898418e634d665974
CATEGORIES:Männer, Frauen
CREATED:20231227T131017
SUMMARY:Grand Slam
LOCATION:Ullaanbaatar (MGL)
DESCRIPTION;ENCODING=QUOTED-PRINTABLE:\n\n&nbsp;Grand Slam\n
DTSTAMP:20260424T102003Z
DTSTART;TZID=Europe/Berlin;VALUE=DATE:20240628
DTEND;TZID=Europe/Berlin;VALUE=DATE:20240701
SEQUENCE:0
TRANSP:OPAQUE
END:VEVENT
END:VCALENDAR