BEGIN:VCALENDAR
VERSION:2.0
PRODID:-//jEvents 2.0 for Joomla//EN
CALSCALE:GREGORIAN
METHOD:PUBLISH
BEGIN:VTIMEZONE
TZID:Europe/Berlin
END:VTIMEZONE
BEGIN:VEVENT
UID:7d6a87739c534e5a8b08b95182f576c6
CATEGORIES:Männer, Frauen
CREATED:20231227T130655
SUMMARY:European Cup  Podcetrek/SLO
LOCATION:Podcetrek / SLO
DESCRIPTION;ENCODING=QUOTED-PRINTABLE:\n\nEC \nPodcetrek/SLO\n
DTSTAMP:20260420T065806Z
DTSTART;TZID=Europe/Berlin;VALUE=DATE:20240615
DTEND;TZID=Europe/Berlin;VALUE=DATE:20240617
SEQUENCE:0
TRANSP:OPAQUE
END:VEVENT
END:VCALENDAR